BEGIN:VCALENDAR
VERSION:2.0
PRODID:Imitheme.com 
BEGIN:VEVENT
UID:20260422T101353527355704
DTSTAMP;TZID=UTC:2026-04-22 10:13:53
DTSTART;TZID=America/Los_Angeles:20260422T101353
DTEND;TZID=America/Los_Angeles:20260422T101353
SUMMARY:Easter Diocese General Assembly
LOCATION:WI
DESCRIPTION:
URL:https://vemkar.us/eventer/easter-diocese-general-assembly/
END:VEVENT
END:VCALENDAR
